BEGIN:VCALENDAR
VERSION:2.0
PRODID:-//hacksw/handcal//NONSGML v1.0//EN
CALSCALE:GREGORIAN
BEGIN:VEVENT
DTEND:20251117T103000
UID:69e8da831a8f9
DTSTAMP:20260422T102611
LOCATION:Ballroom 2 & Ballroom 3
DESCRIPTION:http://www.issuesofsubstance.ca/decolonizing-substance-use
URI:http://www.issuesofsubstance.ca/decolonizing-substance-use
SUMMARY:Decolonizing Substance Use
DTSTART:20251117T093000
END:VEVENT
END:VCALENDAR

    