BEGIN:VCALENDAR
VERSION:2.0
PRODID:-//hacksw/handcal//NONSGML v1.0//EN
CALSCALE:GREGORIAN
BEGIN:VEVENT
DTEND:20251117T110000
UID:69e8de5c5479f
DTSTAMP:20260422T104236
LOCATION:
DESCRIPTION:http://www.issuesofsubstance.ca/networking-break-and-poster-viewing-1
URI:http://www.issuesofsubstance.ca/networking-break-and-poster-viewing-1
SUMMARY:Networking Break and Poster Viewing 1
DTSTART:20251117T103000
END:VEVENT
END:VCALENDAR

    