BEGIN:VCALENDAR
VERSION:2.0
PRODID:-//hacksw/handcal//NONSGML v1.0//EN
CALSCALE:GREGORIAN
BEGIN:VEVENT
DTEND:20251117T123000
UID:69e8da830a92f
DTSTAMP:20260422T102611
LOCATION:|Room 612 & Room 613
DESCRIPTION:http://www.issuesofsubstance.ca/building-competency-and-resilience-care-settings
URI:http://www.issuesofsubstance.ca/building-competency-and-resilience-care-settings
SUMMARY:Building Competency and Resilience in Care Settings
DTSTART:20251117T110000
END:VEVENT
END:VCALENDAR

    