BEGIN:VCALENDAR
VERSION:2.0
PRODID:-//hacksw/handcal//NONSGML v1.0//EN
CALSCALE:GREGORIAN
BEGIN:VEVENT
DTEND:20251117T123000
UID:69e8dacd0d97b
DTSTAMP:20260422T102725
LOCATION:Room 503
DESCRIPTION:http://www.issuesofsubstance.ca/national-picture-regional-data-systems
URI:http://www.issuesofsubstance.ca/national-picture-regional-data-systems
SUMMARY:National Picture from Regional Data Systems
DTSTART:20251117T110000
END:VEVENT
END:VCALENDAR

    