BEGIN:VCALENDAR
VERSION:2.0
PRODID:-//hacksw/handcal//NONSGML v1.0//EN
CALSCALE:GREGORIAN
BEGIN:VEVENT
DTEND:20251117T123000
UID:69e8ddd6b3db7
DTSTAMP:20260422T104022
LOCATION:Room 603 & Room 604
DESCRIPTION:http://www.issuesofsubstance.ca/alcohol-messaging-guidance-and-public-response
URI:http://www.issuesofsubstance.ca/alcohol-messaging-guidance-and-public-response
SUMMARY:Alcohol Messaging\, Guidance and Public Response
DTSTART:20251117T110000
END:VEVENT
END:VCALENDAR

    