BEGIN:VCALENDAR
VERSION:2.0
PRODID:-//hacksw/handcal//NONSGML v1.0//EN
CALSCALE:GREGORIAN
BEGIN:VEVENT
DTEND:20251117T123000
UID:69e8e293664fc
DTSTAMP:20260422T110035
LOCATION:Room 605
DESCRIPTION:http://www.issuesofsubstance.ca/new-frontiers-substance-use-health-and-mental-health-care
URI:http://www.issuesofsubstance.ca/new-frontiers-substance-use-health-and-mental-health-care
SUMMARY:New Frontiers in Substance Use Health and Mental Health Care 
DTSTART:20251117T110000
END:VEVENT
END:VCALENDAR

    