BEGIN:VCALENDAR
VERSION:2.0
PRODID:-//hacksw/handcal//NONSGML v1.0//EN
CALSCALE:GREGORIAN
BEGIN:VEVENT
DTEND:20251117T133000
UID:69e8da79edcba
DTSTAMP:20260422T102601
LOCATION:
DESCRIPTION:http://www.issuesofsubstance.ca/lunch-and-poster-viewing-session-2-1-130-pm
URI:http://www.issuesofsubstance.ca/lunch-and-poster-viewing-session-2-1-130-pm
SUMMARY:Lunch and Poster Viewing Session 2 (1-1:30 p.m.)
DTSTART:20251117T123000
END:VEVENT
END:VCALENDAR

    