BEGIN:VCALENDAR
VERSION:2.0
PRODID:-//hacksw/handcal//NONSGML v1.0//EN
CALSCALE:GREGORIAN
BEGIN:VEVENT
DTEND:20251117T150000
UID:69e8f7941bd15
DTSTAMP:20260422T123012
LOCATION:Room 611
DESCRIPTION:http://www.issuesofsubstance.ca/enhancing-pediatric-substance-use-health-responses
URI:http://www.issuesofsubstance.ca/enhancing-pediatric-substance-use-health-responses
SUMMARY:Enhancing Pediatric Substance Use Health Responses
DTSTART:20251117T133000
END:VEVENT
END:VCALENDAR

    