BEGIN:VCALENDAR
VERSION:2.0
PRODID:-//hacksw/handcal//NONSGML v1.0//EN
CALSCALE:GREGORIAN
BEGIN:VEVENT
DTEND:20251117T150000
UID:69e8f7943668f
DTSTAMP:20260422T123012
LOCATION:Room 502
DESCRIPTION:http://www.issuesofsubstance.ca/10-minute-talks-evidence-and-action-across-canadas-substance-landscape
URI:http://www.issuesofsubstance.ca/10-minute-talks-evidence-and-action-across-canadas-substance-landscape
SUMMARY:10-Minute Talks: Evidence and Action Across Canada’s Substance Landscape 
DTSTART:20251117T133000
END:VEVENT
END:VCALENDAR

    