BEGIN:VCALENDAR
VERSION:2.0
PRODID:-//hacksw/handcal//NONSGML v1.0//EN
CALSCALE:GREGORIAN
BEGIN:VEVENT
DTEND:20251117T150000
UID:69e8e3615f2a7
DTSTAMP:20260422T110401
LOCATION:Room 608 & Room 609
DESCRIPTION:http://www.issuesofsubstance.ca/understanding-impact-cannabis-legalization-among-equity-deserving-populations-trends-prevalence
URI:http://www.issuesofsubstance.ca/understanding-impact-cannabis-legalization-among-equity-deserving-populations-trends-prevalence
SUMMARY:Understanding the Impact of Cannabis Legalization Among Equity-Deserving Populations: Trends in Prevalence\, Patterns of Use and Adverse Outcomes 
DTSTART:20251117T133000
END:VEVENT
END:VCALENDAR

    