BEGIN:VCALENDAR
VERSION:2.0
PRODID:-//hacksw/handcal//NONSGML v1.0//EN
CALSCALE:GREGORIAN
BEGIN:VEVENT
DTEND:20251117T150000
UID:69e8e3f26fbf4
DTSTAMP:20260422T110626
LOCATION:Room 503
DESCRIPTION:http://www.issuesofsubstance.ca/understanding-and-responding-substance-use-northern-and-community-contexts
URI:http://www.issuesofsubstance.ca/understanding-and-responding-substance-use-northern-and-community-contexts
SUMMARY:Understanding and Responding to Substance Use in Northern and Community Contexts
DTSTART:20251117T133000
END:VEVENT
END:VCALENDAR

    