BEGIN:VCALENDAR
VERSION:2.0
PRODID:-//hacksw/handcal//NONSGML v1.0//EN
CALSCALE:GREGORIAN
BEGIN:VEVENT
DTEND:20251117T150000
UID:69e8dacd887f0
DTSTAMP:20260422T102725
LOCATION:Room 605
DESCRIPTION:http://www.issuesofsubstance.ca/voices-change
URI:http://www.issuesofsubstance.ca/voices-change
SUMMARY:Voices for Change
DTSTART:20251117T133000
END:VEVENT
END:VCALENDAR

    