BEGIN:VCALENDAR
VERSION:2.0
PRODID:-//hacksw/handcal//NONSGML v1.0//EN
CALSCALE:GREGORIAN
BEGIN:VEVENT
DTEND:20251117T153000
UID:69e8da804545b
DTSTAMP:20260422T102608
LOCATION:
DESCRIPTION:http://www.issuesofsubstance.ca/networking-break-and-poster-viewing-3-0
URI:http://www.issuesofsubstance.ca/networking-break-and-poster-viewing-3-0
SUMMARY:Networking Break and Poster Viewing 3
DTSTART:20251117T150000
END:VEVENT
END:VCALENDAR

    