BEGIN:VCALENDAR
VERSION:2.0
PRODID:-//hacksw/handcal//NONSGML v1.0//EN
CALSCALE:GREGORIAN
BEGIN:VEVENT
DTEND:20251117T170000
UID:69e8e111df95f
DTSTAMP:20260422T105409
LOCATION:Room 502
DESCRIPTION:http://www.issuesofsubstance.ca/lets-call-it-what-it-substance-use-health-and-care
URI:http://www.issuesofsubstance.ca/lets-call-it-what-it-substance-use-health-and-care
SUMMARY:Let’s Call It What It Is: Substance Use Health and Care 
DTSTART:20251117T153000
END:VEVENT
END:VCALENDAR

    