BEGIN:VCALENDAR
VERSION:2.0
PRODID:-//hacksw/handcal//NONSGML v1.0//EN
CALSCALE:GREGORIAN
BEGIN:VEVENT
DTEND:20251117T170000
UID:69e8fb9467e56
DTSTAMP:20260422T124716
LOCATION:Room 605
DESCRIPTION:http://www.issuesofsubstance.ca/quatre-projets-de-recherche-qui-menent-tous-une-meme-realite-la-stigmatisation-vecue-par-les
URI:http://www.issuesofsubstance.ca/quatre-projets-de-recherche-qui-menent-tous-une-meme-realite-la-stigmatisation-vecue-par-les
SUMMARY:Quatre projets de recherche qui mènent tous à une même réalité : La stigmatisation vécue par les membres de l'entourage  
DTSTART:20251117T153000
END:VEVENT
END:VCALENDAR

    