BEGIN:VCALENDAR
VERSION:2.0
PRODID:-//hacksw/handcal//NONSGML v1.0//EN
CALSCALE:GREGORIAN
BEGIN:VEVENT
DTEND:20251117T170000
UID:69e8e35ae5563
DTSTAMP:20260422T110354
LOCATION:Room 506 & Room 507
DESCRIPTION:http://www.issuesofsubstance.ca/lets-talk-cannabis-digital-tool-resources-connecting-first-nations-youth-about-cannabis
URI:http://www.issuesofsubstance.ca/lets-talk-cannabis-digital-tool-resources-connecting-first-nations-youth-about-cannabis
SUMMARY:Let's Talk Cannabis: Digital Tool Resources for Connecting with First Nations Youth About Cannabis
DTSTART:20251117T153000
END:VEVENT
END:VCALENDAR

    