BEGIN:VCALENDAR
VERSION:2.0
PRODID:-//hacksw/handcal//NONSGML v1.0//EN
CALSCALE:GREGORIAN
BEGIN:VEVENT
DTEND:20251117T170000
UID:69e8f79407a57
DTSTAMP:20260422T123012
LOCATION:Room 612 & Room 613
DESCRIPTION:http://www.issuesofsubstance.ca/youth-and-families-forefront
URI:http://www.issuesofsubstance.ca/youth-and-families-forefront
SUMMARY:Youth and Families at the Forefront 
DTSTART:20251117T153000
END:VEVENT
END:VCALENDAR

    