BEGIN:VCALENDAR
VERSION:2.0
PRODID:-//hacksw/handcal//NONSGML v1.0//EN
CALSCALE:GREGORIAN
BEGIN:VEVENT
DTEND:20251117T170000
UID:69e8df0ce0514
DTSTAMP:20260422T104532
LOCATION:Room 503
DESCRIPTION:http://www.issuesofsubstance.ca/substance-use-health-care-through-connection
URI:http://www.issuesofsubstance.ca/substance-use-health-care-through-connection
SUMMARY:Substance Use Health Care through Connection
DTSTART:20251117T153000
END:VEVENT
END:VCALENDAR

    