BEGIN:VCALENDAR
VERSION:2.0
PRODID:-//hacksw/handcal//NONSGML v1.0//EN
CALSCALE:GREGORIAN
BEGIN:VEVENT
DTEND:20251117T170000
UID:69e8ddd6cc553
DTSTAMP:20260422T104022
LOCATION:Room 603 & Room 604
DESCRIPTION:http://www.issuesofsubstance.ca/british-columbia-forefront-lessons-drug-policy-implementation
URI:http://www.issuesofsubstance.ca/british-columbia-forefront-lessons-drug-policy-implementation
SUMMARY:British Columbia at the Forefront: Lessons from Drug Policy Implementation 
DTSTART:20251117T153000
END:VEVENT
END:VCALENDAR

    