BEGIN:VCALENDAR
VERSION:2.0
PRODID:-//hacksw/handcal//NONSGML v1.0//EN
CALSCALE:GREGORIAN
BEGIN:VEVENT
DTEND:20251118T123000
UID:69e8e22f6aea1
DTSTAMP:20260422T105855
LOCATION:Room 605
DESCRIPTION:http://www.issuesofsubstance.ca/youth-mental-health-tailored-services-and-complex-needs
URI:http://www.issuesofsubstance.ca/youth-mental-health-tailored-services-and-complex-needs
SUMMARY:Youth Mental Health: Tailored Services and Complex Needs
DTSTART:20251118T110000
END:VEVENT
END:VCALENDAR

    