BEGIN:VCALENDAR
VERSION:2.0
PRODID:-//hacksw/handcal//NONSGML v1.0//EN
CALSCALE:GREGORIAN
BEGIN:VEVENT
DTEND:20251118T123000
UID:69e8e1e34e18b
DTSTAMP:20260422T105739
LOCATION:Room 503
DESCRIPTION:http://www.issuesofsubstance.ca/addiction-and-trauma-treatment-nunavut
URI:http://www.issuesofsubstance.ca/addiction-and-trauma-treatment-nunavut
SUMMARY:Addiction and Trauma Treatment in Nunavut
DTSTART:20251118T110000
END:VEVENT
END:VCALENDAR

    