BEGIN:VCALENDAR
VERSION:2.0
PRODID:-//hacksw/handcal//NONSGML v1.0//EN
CALSCALE:GREGORIAN
BEGIN:VEVENT
DTEND:20251118T123000
UID:69e8f7a0cf274
DTSTAMP:20260422T123024
LOCATION:Room 603 & Room 604
DESCRIPTION:http://www.issuesofsubstance.ca/navigating-care-insights-mental-health-and-substance-use-services
URI:http://www.issuesofsubstance.ca/navigating-care-insights-mental-health-and-substance-use-services
SUMMARY:Navigating Care: Insights into Mental Health and Substance Use Services
DTSTART:20251118T110000
END:VEVENT
END:VCALENDAR

    