BEGIN:VCALENDAR
VERSION:2.0
PRODID:-//hacksw/handcal//NONSGML v1.0//EN
CALSCALE:GREGORIAN
BEGIN:VEVENT
DTEND:20251118T150000
UID:69e8dad369caf
DTSTAMP:20260422T102731
LOCATION:Room 605
DESCRIPTION:http://www.issuesofsubstance.ca/diverse-pathways-opioid-therapy
URI:http://www.issuesofsubstance.ca/diverse-pathways-opioid-therapy
SUMMARY:Diverse Pathways in Opioid Therapy 
DTSTART:20251118T133000
END:VEVENT
END:VCALENDAR

    