BEGIN:VCALENDAR
VERSION:2.0
PRODID:-//hacksw/handcal//NONSGML v1.0//EN
CALSCALE:GREGORIAN
BEGIN:VEVENT
DTEND:20251118T150000
UID:69e8e23c2894a
DTSTAMP:20260422T105908
LOCATION:Room 603 & Room 604
DESCRIPTION:http://www.issuesofsubstance.ca/10-minute-talks-toward-better-care-policy-practice-and-personal-journeys
URI:http://www.issuesofsubstance.ca/10-minute-talks-toward-better-care-policy-practice-and-personal-journeys
SUMMARY:10-Minute Talks: Toward Better Care: Policy\, Practice and Personal Journeys
DTSTART:20251118T133000
END:VEVENT
END:VCALENDAR

    