BEGIN:VCALENDAR
VERSION:2.0
PRODID:-//hacksw/handcal//NONSGML v1.0//EN
CALSCALE:GREGORIAN
BEGIN:VEVENT
DTEND:20251118T153000
UID:69e8da7ea46b0
DTSTAMP:20260422T102606
LOCATION:
DESCRIPTION:http://www.issuesofsubstance.ca/networking-break-and-poster-viewing-6
URI:http://www.issuesofsubstance.ca/networking-break-and-poster-viewing-6
SUMMARY:Networking Break and Poster Viewing 6
DTSTART:20251118T150000
END:VEVENT
END:VCALENDAR

    