BEGIN:VCALENDAR
VERSION:2.0
PRODID:-//hacksw/handcal//NONSGML v1.0//EN
CALSCALE:GREGORIAN
BEGIN:VEVENT
DTEND:20251118T170000
UID:69e8e3bde4c38
DTSTAMP:20260422T110533
LOCATION:Room 502
DESCRIPTION:http://www.issuesofsubstance.ca/advancing-pan-canadian-substance-related-monitoring-and-research-infrastructure
URI:http://www.issuesofsubstance.ca/advancing-pan-canadian-substance-related-monitoring-and-research-infrastructure
SUMMARY:Advancing Pan-Canadian Substance-Related Monitoring and Research Infrastructure
DTSTART:20251118T153000
END:VEVENT
END:VCALENDAR

    