BEGIN:VCALENDAR
VERSION:2.0
PRODID:-//hacksw/handcal//NONSGML v1.0//EN
CALSCALE:GREGORIAN
BEGIN:VEVENT
DTEND:20251118T170000
UID:69e8e111ef025
DTSTAMP:20260422T105409
LOCATION:Room 611
DESCRIPTION:http://www.issuesofsubstance.ca/supporting-people-who-use-substances-research-real-life-lessons
URI:http://www.issuesofsubstance.ca/supporting-people-who-use-substances-research-real-life-lessons
SUMMARY:Supporting People Who Use Substances: From Research to Real-Life Lessons
DTSTART:20251118T153000
END:VEVENT
END:VCALENDAR

    