BEGIN:VCALENDAR
VERSION:2.0
PRODID:-//hacksw/handcal//NONSGML v1.0//EN
CALSCALE:GREGORIAN
BEGIN:VEVENT
DTEND:20251118T170000
UID:69e8debf764d9
DTSTAMP:20260422T104415
LOCATION:Room 503
DESCRIPTION:http://www.issuesofsubstance.ca/rethinking-cannabis-policy-practice-and-experience
URI:http://www.issuesofsubstance.ca/rethinking-cannabis-policy-practice-and-experience
SUMMARY:Rethinking Cannabis: Policy\, Practice and Experience
DTSTART:20251118T153000
END:VEVENT
END:VCALENDAR

    