BEGIN:VCALENDAR
VERSION:2.0
PRODID:-//hacksw/handcal//NONSGML v1.0//EN
CALSCALE:GREGORIAN
BEGIN:VEVENT
DTEND:20251119T103000
UID:69e8e1bede7f3
DTSTAMP:20260422T105702
LOCATION:Room 502
DESCRIPTION:http://www.issuesofsubstance.ca/familial-counterculture-and-systemic-alienation-addiction
URI:http://www.issuesofsubstance.ca/familial-counterculture-and-systemic-alienation-addiction
SUMMARY:Familial Counterculture and Systemic Alienation in Addiction
DTSTART:20251119T090000
END:VEVENT
END:VCALENDAR

    