BEGIN:VCALENDAR
VERSION:2.0
PRODID:-//hacksw/handcal//NONSGML v1.0//EN
CALSCALE:GREGORIAN
BEGIN:VEVENT
DTEND:20251119T103000
UID:69e8f78b3d683
DTSTAMP:20260422T123003
LOCATION:Room 506 & Room 507
DESCRIPTION:http://www.issuesofsubstance.ca/harm-reduction-supplies-strengthening-communities-through-innovative-knowledge-exchange
URI:http://www.issuesofsubstance.ca/harm-reduction-supplies-strengthening-communities-through-innovative-knowledge-exchange
SUMMARY:Harm Reduction Supplies: Strengthening Communities Through Innovative Knowledge Exchange    
DTSTART:20251119T090000
END:VEVENT
END:VCALENDAR

    