BEGIN:VCALENDAR
VERSION:2.0
PRODID:-//hacksw/handcal//NONSGML v1.0//EN
CALSCALE:GREGORIAN
BEGIN:VEVENT
DTEND:20251119T103000
UID:69e8de946d09b
DTSTAMP:20260422T104332
LOCATION:Room 605
DESCRIPTION:http://www.issuesofsubstance.ca/alcohol-use-and-impact
URI:http://www.issuesofsubstance.ca/alcohol-use-and-impact
SUMMARY:Alcohol Use and Impact
DTSTART:20251119T090000
END:VEVENT
END:VCALENDAR

    