BEGIN:VCALENDAR
VERSION:2.0
PRODID:-//hacksw/handcal//NONSGML v1.0//EN
CALSCALE:GREGORIAN
BEGIN:VEVENT
DTEND:20251119T103000
UID:69e8f7d2a2e80
DTSTAMP:20260422T123114
LOCATION:Room 611
DESCRIPTION:http://www.issuesofsubstance.ca/women-and-substance-use-health
URI:http://www.issuesofsubstance.ca/women-and-substance-use-health
SUMMARY:Women and Substance Use Health 
DTSTART:20251119T090000
END:VEVENT
END:VCALENDAR

    