BEGIN:VCALENDAR
VERSION:2.0
PRODID:-//hacksw/handcal//NONSGML v1.0//EN
CALSCALE:GREGORIAN
BEGIN:VEVENT
DTEND:20251119T103000
UID:69e8f7a13d83c
DTSTAMP:20260422T123025
LOCATION:Room 503
DESCRIPTION:http://www.issuesofsubstance.ca/data-dialogue-youth-cannabis-use-and-engagement
URI:http://www.issuesofsubstance.ca/data-dialogue-youth-cannabis-use-and-engagement
SUMMARY:From Data to Dialogue: Youth Cannabis Use and Engagement 
DTSTART:20251119T090000
END:VEVENT
END:VCALENDAR

    