BEGIN:VCALENDAR
VERSION:2.0
PRODID:-//hacksw/handcal//NONSGML v1.0//EN
CALSCALE:GREGORIAN
BEGIN:VEVENT
DTEND:20251119T110000
UID:69e8def9616ab
DTSTAMP:20260422T104513
LOCATION:
DESCRIPTION:http://www.issuesofsubstance.ca/networking-break-and-poster-viewing-7
URI:http://www.issuesofsubstance.ca/networking-break-and-poster-viewing-7
SUMMARY:Networking Break and Poster Viewing 7
DTSTART:20251119T103000
END:VEVENT
END:VCALENDAR

    