BEGIN:VCALENDAR
VERSION:2.0
PRODID:-//hacksw/handcal//NONSGML v1.0//EN
CALSCALE:GREGORIAN
BEGIN:VEVENT
DTEND:20251119T123000
UID:69e8e2e634ca2
DTSTAMP:20260422T110158
LOCATION:Room 503
DESCRIPTION:http://www.issuesofsubstance.ca/new-hospital-addiction-consult-service-learningcollecting-data
URI:http://www.issuesofsubstance.ca/new-hospital-addiction-consult-service-learningcollecting-data
SUMMARY:A New Hospital Addiction Consult Service: Learning/Collecting Data
DTSTART:20251119T110000
END:VEVENT
END:VCALENDAR

    