BEGIN:VCALENDAR
VERSION:2.0
PRODID:-//hacksw/handcal//NONSGML v1.0//EN
CALSCALE:GREGORIAN
BEGIN:VEVENT
DTEND:20251119T123000
UID:69e8dad176065
DTSTAMP:20260422T102729
LOCATION:Room 603 & Room 604
DESCRIPTION:http://www.issuesofsubstance.ca/indigenous-knowledge-and-healing-practice
URI:http://www.issuesofsubstance.ca/indigenous-knowledge-and-healing-practice
SUMMARY:Indigenous Knowledge and Healing in Practice
DTSTART:20251119T110000
END:VEVENT
END:VCALENDAR

    