BEGIN:VCALENDAR
VERSION:2.0
PRODID:-//hacksw/handcal//NONSGML v1.0//EN
CALSCALE:GREGORIAN
BEGIN:VEVENT
DTEND:20251119T123000
UID:69e8e14181545
DTSTAMP:20260422T105457
LOCATION:Room 605
DESCRIPTION:http://www.issuesofsubstance.ca/youth-and-schools-intervention-and-prevention-education-settings
URI:http://www.issuesofsubstance.ca/youth-and-schools-intervention-and-prevention-education-settings
SUMMARY:Youth and Schools: Intervention and Prevention in Education Settings
DTSTART:20251119T110000
END:VEVENT
END:VCALENDAR

    