BEGIN:VCALENDAR
VERSION:2.0
PRODID:-//hacksw/handcal//NONSGML v1.0//EN
CALSCALE:GREGORIAN
BEGIN:VEVENT
DTEND:20251119T123000
UID:69e8f79526560
DTSTAMP:20260422T123013
LOCATION:Room 612 
DESCRIPTION:http://www.issuesofsubstance.ca/family-voices-supports-substance-use-health
URI:http://www.issuesofsubstance.ca/family-voices-supports-substance-use-health
SUMMARY:Family Voices in Supports for Substance Use Health 
DTSTART:20251119T110000
END:VEVENT
END:VCALENDAR

    