BEGIN:VCALENDAR
VERSION:2.0
PRODID:-//hacksw/handcal//NONSGML v1.0//EN
CALSCALE:GREGORIAN
BEGIN:VEVENT
DTEND:20251119T123000
UID:69e8da8347d8a
DTSTAMP:20260422T102611
LOCATION:Room 608 & Room 609
DESCRIPTION:http://www.issuesofsubstance.ca/caring-through-connection-peer-support-and-compassionate-practice
URI:http://www.issuesofsubstance.ca/caring-through-connection-peer-support-and-compassionate-practice
SUMMARY:Caring through Connection: Peer Support and Compassionate Practice
DTSTART:20251119T110000
END:VEVENT
END:VCALENDAR

    