BEGIN:VCALENDAR
VERSION:2.0
PRODID:-//hacksw/handcal//NONSGML v1.0//EN
CALSCALE:GREGORIAN
BEGIN:VEVENT
DTEND:20251119T143000
UID:69e8e0d6ab207
DTSTAMP:20260422T105310
LOCATION:Room 506 & Room 507
DESCRIPTION:http://www.issuesofsubstance.ca/strengthening-global-substance-use-workforce-role-issup-national-chapters
URI:http://www.issuesofsubstance.ca/strengthening-global-substance-use-workforce-role-issup-national-chapters
SUMMARY:Strengthening the Global Substance Use Workforce: The  Role of ISSUP National Chapters 
DTSTART:20251119T133000
END:VEVENT
END:VCALENDAR

    