BEGIN:VCALENDAR
VERSION:2.0
PRODID:-//hacksw/handcal//NONSGML v1.0//EN
CALSCALE:GREGORIAN
BEGIN:VEVENT
DTEND:20251119T133000
UID:69e8df1f6bd39
DTSTAMP:20260422T104551
LOCATION:
DESCRIPTION:http://www.issuesofsubstance.ca/lunch-and-poster-viewing-session-8-1-130-pm
URI:http://www.issuesofsubstance.ca/lunch-and-poster-viewing-session-8-1-130-pm
SUMMARY:Lunch and Poster Viewing Session 8 (1-1:30 p.m.)
DTSTART:20251119T123000
END:VEVENT
END:VCALENDAR

    