BEGIN:VCALENDAR
VERSION:2.0
PRODID:-//hacksw/handcal//NONSGML v1.0//EN
CALSCALE:GREGORIAN
BEGIN:VEVENT
DTEND:20251119T143000
UID:69e8de150db28
DTSTAMP:20260422T104125
LOCATION:Room 611
DESCRIPTION:http://www.issuesofsubstance.ca/focus-womens-substance-use-health
URI:http://www.issuesofsubstance.ca/focus-womens-substance-use-health
SUMMARY:A Focus on Women’s Substance Use Health
DTSTART:20251119T133000
END:VEVENT
END:VCALENDAR

    