BEGIN:VCALENDAR
VERSION:2.0
PRODID:-//hacksw/handcal//NONSGML v1.0//EN
CALSCALE:GREGORIAN
BEGIN:VEVENT
DTEND:20251119T143000
UID:69e8dace0ee79
DTSTAMP:20260422T102726
LOCATION:Room 502
DESCRIPTION:http://www.issuesofsubstance.ca/opioid-use-and-care-across-contexts
URI:http://www.issuesofsubstance.ca/opioid-use-and-care-across-contexts
SUMMARY:Opioid Use and Care across Contexts
DTSTART:20251119T133000
END:VEVENT
END:VCALENDAR

    