BEGIN:VCALENDAR
VERSION:2.0
PRODID:-//hacksw/handcal//NONSGML v1.0//EN
CALSCALE:GREGORIAN
BEGIN:VEVENT
DTEND:20251119T143000
UID:69e8da7f43918
DTSTAMP:20260422T102607
LOCATION:Room 503
DESCRIPTION:http://www.issuesofsubstance.ca/supporting-wellness-across-generations
URI:http://www.issuesofsubstance.ca/supporting-wellness-across-generations
SUMMARY:Supporting Wellness Across Generations 
DTSTART:20251119T133000
END:VEVENT
END:VCALENDAR

    