BEGIN:VCALENDAR
VERSION:2.0
PRODID:-//hacksw/handcal//NONSGML v1.0//EN
CALSCALE:GREGORIAN
BEGIN:VEVENT
DTEND:20251119T143000
UID:69e8e394be4f9
DTSTAMP:20260422T110452
LOCATION:Room 608 & Room 609
DESCRIPTION:http://www.issuesofsubstance.ca/substance-use-health-applies-everyone
URI:http://www.issuesofsubstance.ca/substance-use-health-applies-everyone
SUMMARY:Substance Use Health Applies to Everyone  
DTSTART:20251119T133000
END:VEVENT
END:VCALENDAR

    