BEGIN:VCALENDAR
VERSION:2.0
PRODID:-//hacksw/handcal//NONSGML v1.0//EN
CALSCALE:GREGORIAN
BEGIN:VEVENT
DTEND:20251119T143000
UID:69e8debf64960
DTSTAMP:20260422T104415
LOCATION:Room 603 & Room 604
DESCRIPTION:http://www.issuesofsubstance.ca/tracking-toxicity-patterns-risk-and-public-health-response
URI:http://www.issuesofsubstance.ca/tracking-toxicity-patterns-risk-and-public-health-response
SUMMARY:Tracking Toxicity: Patterns\, Risk and Public Health Response
DTSTART:20251119T133000
END:VEVENT
END:VCALENDAR

    