BEGIN:VCALENDAR
VERSION:2.0
PRODID:-//hacksw/handcal//NONSGML v1.0//EN
CALSCALE:GREGORIAN
BEGIN:VEVENT
DTEND:20251119T143000
UID:69e8de339a249
DTSTAMP:20260422T104155
LOCATION:Room 605
DESCRIPTION:http://www.issuesofsubstance.ca/substance-use-metrics-and-messages
URI:http://www.issuesofsubstance.ca/substance-use-metrics-and-messages
SUMMARY:Substance Use Metrics and Messages 
DTSTART:20251119T133000
END:VEVENT
END:VCALENDAR

    