BEGIN:VCALENDAR
VERSION:2.0
PRODID:-//hacksw/handcal//NONSGML v1.0//EN
CALSCALE:GREGORIAN
BEGIN:VEVENT
DTEND:20251119T150000
UID:69e8da7ebeb31
DTSTAMP:20260422T102606
LOCATION:
DESCRIPTION:http://www.issuesofsubstance.ca/networking-break-and-poster-viewing-9
URI:http://www.issuesofsubstance.ca/networking-break-and-poster-viewing-9
SUMMARY:Networking Break and Poster Viewing 9
DTSTART:20251119T143000
END:VEVENT
END:VCALENDAR

    