BEGIN:VCALENDAR
VERSION:2.0
PRODID:-//hacksw/handcal//NONSGML v1.0//EN
CALSCALE:GREGORIAN
BEGIN:VEVENT
DTEND:20251118T110000
UID:69e8da80bff13
DTSTAMP:20260422T102608
LOCATION:
DESCRIPTION:http://www.issuesofsubstance.ca/networking-break-and-poster-viewing-4
URI:http://www.issuesofsubstance.ca/networking-break-and-poster-viewing-4
SUMMARY:Networking Break and Poster Viewing 4
DTSTART:20251118T103000
END:VEVENT
END:VCALENDAR

    