BEGIN:VCALENDAR
VERSION:2.0
PRODID:-//hacksw/handcal//NONSGML v1.0//EN
CALSCALE:GREGORIAN
BEGIN:VEVENT
DTEND:20251116T193000
UID:69e8df0ca4f30
DTSTAMP:20260422T104532
LOCATION:Main Foyer
DESCRIPTION:http://www.issuesofsubstance.ca/east-coast-kitchen-party-welcome-event
URI:http://www.issuesofsubstance.ca/east-coast-kitchen-party-welcome-event
SUMMARY:East Coast Kitchen Party Welcome Event 
DTSTART:20251116T170000
END:VEVENT
END:VCALENDAR

    